BEGIN:VCALENDAR
VERSION:2.0
PRODID:-//The Salmon Truck - ECPv4.6.23//NONSGML v1.0//EN
CALSCALE:GREGORIAN
METHOD:PUBLISH
X-WR-CALNAME:The Salmon Truck
X-ORIGINAL-URL:https://thesalmontruck.com.au
X-WR-CALDESC:Events for The Salmon Truck
BEGIN:VEVENT
DTSTART;TZID=UTC+10:20211224T103000
DTEND;TZID=UTC+10:20211224T143000
DTSTAMP:20260421T013830
CREATED:20211028T002029Z
LAST-MODIFIED:20211028T002029Z
UID:3556-1640341800-1640356200@thesalmontruck.com.au
SUMMARY:Triabunna
DESCRIPTION:
URL:https://thesalmontruck.com.au/event/triabunna-81/
LOCATION:Triabunna\, Triabunna Hardware\, 21 Vicary St\, Tasmania\, Australia
GEO:-42.507597;147.914182
X-APPLE-STRUCTURED-LOCATION;VALUE=URI;X-ADDRESS=Triabunna Triabunna Hardware 21 Vicary St Tasmania Australia;X-APPLE-RADIUS=500;X-TITLE=Triabunna Hardware\, 21 Vicary St:geo:147.914182,-42.507597
CATEGORIES:Normal Events
END:VEVENT
END:VCALENDAR