BEGIN:VCALENDAR
VERSION:2.0
PRODID:-//The Salmon Truck - ECPv4.6.23//NONSGML v1.0//EN
CALSCALE:GREGORIAN
METHOD:PUBLISH
X-WR-CALNAME:The Salmon Truck
X-ORIGINAL-URL:https://thesalmontruck.com.au
X-WR-CALDESC:Events for The Salmon Truck
BEGIN:VEVENT
DTSTART;TZID=UTC+10:20210430T103000
DTEND;TZID=UTC+10:20210430T143000
DTSTAMP:20260420T234959
CREATED:20210223T232603Z
LAST-MODIFIED:20210223T232603Z
UID:3019-1619778600-1619793000@thesalmontruck.com.au
SUMMARY:Triabunna
DESCRIPTION:
URL:https://thesalmontruck.com.au/event/triabunna-64/
LOCATION:Triabunna\, Triabunna Hardware\, 21 Vicary St\, Tasmania\, Australia
GEO:-42.507597;147.914182
X-APPLE-STRUCTURED-LOCATION;VALUE=URI;X-ADDRESS=Triabunna Triabunna Hardware 21 Vicary St Tasmania Australia;X-APPLE-RADIUS=500;X-TITLE=Triabunna Hardware\, 21 Vicary St:geo:147.914182,-42.507597
CATEGORIES:Normal Events
END:VEVENT
END:VCALENDAR