BEGIN:VCALENDAR
VERSION:2.0
PRODID:-//The Salmon Truck - ECPv4.6.23//NONSGML v1.0//EN
CALSCALE:GREGORIAN
METHOD:PUBLISH
X-WR-CALNAME:The Salmon Truck
X-ORIGINAL-URL:https://thesalmontruck.com.au
X-WR-CALDESC:Events for The Salmon Truck
BEGIN:VEVENT
DTSTART;TZID=UTC+10:20200519T110000
DTEND;TZID=UTC+10:20200519T140000
DTSTAMP:20260424T221417
CREATED:20200422T043500Z
LAST-MODIFIED:20200422T043500Z
UID:2284-1589886000-1589896800@thesalmontruck.com.au
SUMMARY:Nubeena
DESCRIPTION:
URL:https://thesalmontruck.com.au/event/nubeena-33/
CATEGORIES:Normal Events
END:VEVENT
END:VCALENDAR