BEGIN:VCALENDAR
VERSION:2.0
PRODID:-//The Salmon Truck - ECPv4.6.23//NONSGML v1.0//EN
CALSCALE:GREGORIAN
METHOD:PUBLISH
X-WR-CALNAME:The Salmon Truck
X-ORIGINAL-URL:https://thesalmontruck.com.au
X-WR-CALDESC:Events for The Salmon Truck
BEGIN:VEVENT
DTSTART;TZID=UTC+10:20190828T110000
DTEND;TZID=UTC+10:20190828T153000
DTSTAMP:20260421T140145
CREATED:20190725T000937Z
LAST-MODIFIED:20190725T000937Z
UID:1411-1566990000-1567006200@thesalmontruck.com.au
SUMMARY:Margate
DESCRIPTION:
URL:https://thesalmontruck.com.au/event/margate-5/
CATEGORIES:Normal Events
END:VEVENT
END:VCALENDAR