BEGIN:VCALENDAR
VERSION:2.0
PRODID:-//The Salmon Truck - ECPv4.6.23//NONSGML v1.0//EN
CALSCALE:GREGORIAN
METHOD:PUBLISH
X-WR-CALNAME:The Salmon Truck
X-ORIGINAL-URL:https://thesalmontruck.com.au
X-WR-CALDESC:Events for The Salmon Truck
BEGIN:VEVENT
DTSTART;TZID=UTC+10:20240703T093000
DTEND;TZID=UTC+10:20240703T140000
DTSTAMP:20260421T121155
CREATED:20240611T235423Z
LAST-MODIFIED:20240611T235423Z
UID:5330-1719999000-1720015200@thesalmontruck.com.au
SUMMARY:Kingston
DESCRIPTION:
URL:https://thesalmontruck.com.au/event/kingston-58/
LOCATION:Kingston (Kingston Park)\, tas\, Australia
GEO:-42.0409059;146.8087322
CATEGORIES:Normal Events
END:VEVENT
END:VCALENDAR