BEGIN:VCALENDAR
VERSION:2.0
PRODID:-//The Salmon Truck - ECPv4.6.23//NONSGML v1.0//EN
CALSCALE:GREGORIAN
METHOD:PUBLISH
X-WR-CALNAME:The Salmon Truck
X-ORIGINAL-URL:https://thesalmontruck.com.au
X-WR-CALDESC:Events for The Salmon Truck
BEGIN:VEVENT
DTSTART;TZID=UTC+10:20190911T110000
DTEND;TZID=UTC+10:20190911T153000
DTSTAMP:20260424T202700
CREATED:20190822T000832Z
LAST-MODIFIED:20190822T000832Z
UID:1446-1568199600-1568215800@thesalmontruck.com.au
SUMMARY:Kingborough Market
DESCRIPTION:
URL:https://thesalmontruck.com.au/event/kingborough-market/
CATEGORIES:Normal Events
END:VEVENT
END:VCALENDAR