BEGIN:VCALENDAR
VERSION:2.0
PRODID:-//The Salmon Truck - ECPv4.6.23//NONSGML v1.0//EN
CALSCALE:GREGORIAN
METHOD:PUBLISH
X-WR-CALNAME:The Salmon Truck
X-ORIGINAL-URL:https://thesalmontruck.com.au
X-WR-CALDESC:Events for The Salmon Truck
BEGIN:VEVENT
DTSTART;TZID=UTC+10:20190925T110000
DTEND;TZID=UTC+10:20190925T153000
DTSTAMP:20260424T220756
CREATED:20190822T002009Z
LAST-MODIFIED:20190822T002009Z
UID:1476-1569409200-1569425400@thesalmontruck.com.au
SUMMARY:Kingborough Market
DESCRIPTION:
URL:https://thesalmontruck.com.au/event/kingborough-market-2/
CATEGORIES:Normal Events
END:VEVENT
END:VCALENDAR