BEGIN:VCALENDAR
VERSION:2.0
PRODID:-//The Salmon Truck - ECPv4.6.23//NONSGML v1.0//EN
CALSCALE:GREGORIAN
METHOD:PUBLISH
X-WR-CALNAME:The Salmon Truck
X-ORIGINAL-URL:https://thesalmontruck.com.au
X-WR-CALDESC:Events for The Salmon Truck
BEGIN:VEVENT
DTSTART;TZID=UTC+10:20221106T080000
DTEND;TZID=UTC+10:20221106T130000
DTSTAMP:20260422T111323
CREATED:20221024T213613Z
LAST-MODIFIED:20221024T224231Z
UID:4275-1667721600-1667739600@thesalmontruck.com.au
SUMMARY:Dover Fun Run - Tassal 10km
DESCRIPTION:  \nTassal 10km – Iconic Run! \n  \nBendigo 5km – New this year! \n  \nAnnabelle’s 2km – Kids Fun Run! \n
URL:https://thesalmontruck.com.au/event/dover-fun-run/
LOCATION:Dover Fun Run\, Esplanade Dover\, Dover\, Tasmania\, 7117\, Australia
GEO:-42.7758604;147.0642117
X-APPLE-STRUCTURED-LOCATION;VALUE=URI;X-ADDRESS=Dover Fun Run Esplanade Dover Dover Tasmania 7117 Australia;X-APPLE-RADIUS=500;X-TITLE=Esplanade Dover:geo:147.0642117,-42.7758604
CATEGORIES:Normal Events,Special Events
END:VEVENT
END:VCALENDAR