BEGIN:VCALENDAR
VERSION:2.0
PRODID:-//The Salmon Truck - ECPv4.6.23//NONSGML v1.0//EN
CALSCALE:GREGORIAN
METHOD:PUBLISH
X-WR-CALNAME:The Salmon Truck
X-ORIGINAL-URL:https://thesalmontruck.com.au
X-WR-CALDESC:Events for The Salmon Truck
BEGIN:VEVENT
DTSTART;TZID=UTC+10:20200812T100000
DTEND;TZID=UTC+10:20200812T140000
DTSTAMP:20260424T215100
CREATED:20200722T023420Z
LAST-MODIFIED:20200722T023420Z
UID:2464-1597226400-1597240800@thesalmontruck.com.au
SUMMARY:Cygnet
DESCRIPTION:
URL:https://thesalmontruck.com.au/event/cygnet-37/
CATEGORIES:Normal Events
END:VEVENT
END:VCALENDAR