BEGIN:VCALENDAR
VERSION:2.0
PRODID:-//The Salmon Truck - ECPv4.6.23//NONSGML v1.0//EN
CALSCALE:GREGORIAN
METHOD:PUBLISH
X-WR-CALNAME:The Salmon Truck
X-ORIGINAL-URL:https://thesalmontruck.com.au
X-WR-CALDESC:Events for The Salmon Truck
BEGIN:VEVENT
DTSTART;VALUE=DATE:20211227
DTEND;VALUE=DATE:20211228
DTSTAMP:20260422T170145
CREATED:20211028T002251Z
LAST-MODIFIED:20211028T002251Z
UID:3562-1640563200-1640649599@thesalmontruck.com.au
SUMMARY:Closed - Christmas Day Public Holiday
DESCRIPTION:
URL:https://thesalmontruck.com.au/event/closed-christmas-day-public-holiday/
LOCATION:Closed – Rest Day\, 20 Glen Road\, Huonville\, Tasmania\, 7109\, Australia
GEO:-43.0101375;147.0622097
X-APPLE-STRUCTURED-LOCATION;VALUE=URI;X-ADDRESS=Closed – Rest Day 20 Glen Road Huonville Tasmania 7109 Australia;X-APPLE-RADIUS=500;X-TITLE=20 Glen Road:geo:147.0622097,-43.0101375
CATEGORIES:Normal Events
END:VEVENT
END:VCALENDAR