BEGIN:VCALENDAR
VERSION:2.0
PRODID:-//The Salmon Truck - ECPv4.6.23//NONSGML v1.0//EN
CALSCALE:GREGORIAN
METHOD:PUBLISH
X-WR-CALNAME:The Salmon Truck
X-ORIGINAL-URL:https://thesalmontruck.com.au
X-WR-CALDESC:Events for The Salmon Truck
BEGIN:VEVENT
DTSTART;TZID=UTC+10:20190307T100000
DTEND;TZID=UTC+10:20190307T140000
DTSTAMP:20260424T193958
CREATED:20190221T002240Z
LAST-MODIFIED:20190221T002240Z
UID:1041-1551952800-1551967200@thesalmontruck.com.au
SUMMARY:Cambridge - Coal River Farm
DESCRIPTION:
URL:https://thesalmontruck.com.au/event/cambridge-coal-river-farm/
CATEGORIES:Normal Events
END:VEVENT
END:VCALENDAR